View In:
  ArcGIS JavaScript
  ArcGIS Online Map Viewer
  ArcGIS Earth
  ArcMap
View Footprint In:
  ArcGIS Online Map Viewer
Service Description:  Il servizio di mappa permette la visualizzazione del territorio lombardo rilevato nel periodo da giugno a settembre 2015 da AGEA (Agenzia per le erogazioni in agricoltura). Le ortofoto hanno risoluzione GSD 45x45 cm nelle zone montane alpine e 25x 25
Name:  BaseMap/ortofoto2015_extra_rl_wm
Description:  Il servizio di mappa permette la visualizzazione del territorio lombardo rilevato nel periodo da giugno a settembre 2015 da AGEA (Agenzia per le erogazioni in agricoltura). Le ortofoto hanno risoluzione GSD 45x45 cm nelle zone montane alpine e 25x 25
Single Fused Map Cache:  true
Tile Info: 
- Height: 256
 
- Width: 256
 
- DPI: 96
 
- 
Levels of Detail:  20
- 
Level ID: 0
[ Start Tile, End Tile ]
 
- Resolution: 156543.03392800014
 
- Scale: 5.91657527591555E8
 
- 
Level ID: 1
[ Start Tile, End Tile ]
 
- Resolution: 78271.51696399994
 
- Scale: 2.95828763795777E8
 
- 
Level ID: 2
[ Start Tile, End Tile ]
 
- Resolution: 39135.75848200009
 
- Scale: 1.47914381897889E8
 
- 
Level ID: 3
[ Start Tile, End Tile ]
 
- Resolution: 19567.87924099992
 
- Scale: 7.3957190948944E7
 
- 
Level ID: 4
[ Start Tile, End Tile ]
 
- Resolution: 9783.93962049996
 
- Scale: 3.6978595474472E7
 
- 
Level ID: 5
[ Start Tile, End Tile ]
 
- Resolution: 4891.96981024998
 
- Scale: 1.8489297737236E7
- Format: MIXED
 
- Compression Quality: 75.0
 
- LERC Error: NaN
 
- Origin: X:  -2.0037508342787E7
Y:  2.0037508342787E7
 
- Spatial Reference: 102100
 (3857)
 
Extent: 
XMin: 728281.8473571576
YMin: 5421676.032079981
XMax: 1469612.039014818
YMax: 5964242.182117814
Spatial Reference: 102100
 (3857)
Initial Extent: 
XMin: 728281.8473571576
YMin: 5421676.032079981
XMax: 1469612.039014818
YMax: 5964242.182117814
Spatial Reference: 102100
 (3857)
Full Extent: 
XMin: 728281.8473571576
YMin: 5421676.032079981
XMax: 1469612.039014818
YMax: 5964242.182117814
Spatial Reference: 102100
 (3857)
Pixel Size X:  0.29858214164761665
Pixel Size Y:  0.2985821416476167
Band Count: 3
Pixel Type: U8
RasterFunction Infos:  {"rasterFunctionInfos": [{
 "name": "None",
 "description": "",
 "help": ""
}]}
Mensuration Capabilities: Basic
Has Histograms:  false
Has Colormap:  false
Has Multi Dimensions :  false
Rendering Rule: 
Min Scale:  4622324.434309
Max Scale:  1128.497176
Copyright Text:  Ortofoto 20 cm/Ortofoto 50 cm©2015 Consorzio TeA - Tutti i diritti riservati
Service Data Type:  esriImageServiceDataTypeRGB
Min Values:  N/A
Max Values:  N/A
Mean Values:  N/A
Standard Deviation Values:  N/A
Object ID Field:  
Fields: 
None
Default Mosaic Method:  Center
Allowed Mosaic Methods:  
SortField:  
SortValue:  null
Mosaic Operator:  First
Default Compression Quality:  75
Default Resampling Method:  Bilinear
Max Record Count:  null
Max Image Height:  4100
Max Image Width:  15000
Max Download Image Count:  null
Max Mosaic Image Count:  null
Allow Raster Function:  true
Allow Copy:  null
Allow Analysis:  null
Allow Compute TiePoints:  false
Supports Statistics:  false
Supports Advanced Queries:  false
Use StandardizedQueries:  true
Raster Type Infos: 
Name: Raster Dataset
Description: Supports all ArcGIS Raster Datasets
Help: 
Has Raster Attribute Table:  false
Edit Fields Info:  null
Ownership Based AccessControl For Rasters:  null
Child Resources:
  
Info
  Key Properties
  Legend
  Raster Function Infos
Supported Operations:
  
Export Image
  Identify
  Measure
  Compute Histograms
  Compute Statistics Histograms
  Get Samples
  Compute Class Statistics
  Query Boundary
  Compute Pixel Location
  Validate
  Project