View In:
  ArcGIS JavaScript
  ArcGIS Online Map Viewer
  ArcGIS Earth
  ArcMap
View Footprint In:
  ArcGIS Online Map Viewer
Service Description:  Elevation Services
Name:  Elevation_service/DTM5_RL_WebMerc
Description:  Elevation Services
Single Fused Map Cache:  true
Tile Info: 
- Height: 256
 
- Width: 256
 
- DPI: 96
 
- 
Levels of Detail:  20
- 
Level ID: 0
[ Start Tile, End Tile ]
 
- Resolution: 156543.03392800014
 
- Scale: 5.91657527591555E8
 
- 
Level ID: 1
[ Start Tile, End Tile ]
 
- Resolution: 78271.51696399994
 
- Scale: 2.95828763795777E8
 
- 
Level ID: 2
[ Start Tile, End Tile ]
 
- Resolution: 39135.75848200009
 
- Scale: 1.47914381897889E8
 
- 
Level ID: 3
[ Start Tile, End Tile ]
 
- Resolution: 19567.87924099992
 
- Scale: 7.3957190948944E7
 
- 
Level ID: 4
[ Start Tile, End Tile ]
 
- Resolution: 9783.93962049996
 
- Scale: 3.6978595474472E7
 
- 
Level ID: 5
[ Start Tile, End Tile ]
 
- Resolution: 4891.96981024998
 
- Scale: 1.8489297737236E7
- Format: LERC
 
- Compression Quality: 0.0
 
- LERC Error: 0.1
 
- Origin: X:  -2.0037508342787E7
Y:  2.0037508342787E7
 
- Spatial Reference: 102100
 (3857)
 
Extent: 
XMin: 943682.6972375863
YMin: 5563710.829860005
XMax: 1282052.6972375861
YMax: 5886050.829860005
Spatial Reference: 102100
 (3857)
Initial Extent: 
XMin: 943682.6972375863
YMin: 5563710.829860005
XMax: 1282052.6972375861
YMax: 5886050.829860005
Spatial Reference: 102100
 (3857)
Full Extent: 
XMin: 943682.6972375863
YMin: 5563710.829860005
XMax: 1282052.6972375861
YMax: 5886050.829860005
Spatial Reference: 102100
 (3857)
Pixel Size X:  4.999999999999998
Pixel Size Y:  5.0
Band Count: 1
Pixel Type: F32
RasterFunction Infos:  {"rasterFunctionInfos": [{
 "name": "None",
 "description": "",
 "help": ""
}]}
Mensuration Capabilities: Basic
Has Histograms:  true
Has Colormap:  false
Has Multi Dimensions :  false
Rendering Rule: 
Min Scale:  72223.819286
Max Scale:  18055.954822
Copyright Text:  
Service Data Type:  esriImageServiceDataTypeGeneric
Min Values:  2.3637979030609
Max Values:  4024.9765625
Mean Values:  613.59012267748
Standard Deviation Values:  774.93537800996
Object ID Field:  
Fields: 
None
Default Mosaic Method:  Center
Allowed Mosaic Methods:  
SortField:  
SortValue:  null
Mosaic Operator:  First
Default Compression Quality:  75
Default Resampling Method:  Bilinear
Max Record Count:  null
Max Image Height:  4100
Max Image Width:  15000
Max Download Image Count:  null
Max Mosaic Image Count:  null
Allow Raster Function:  true
Allow Copy:  null
Allow Analysis:  null
Allow Compute TiePoints:  false
Supports Statistics:  false
Supports Advanced Queries:  false
Use StandardizedQueries:  true
Raster Type Infos: 
Name: Raster Dataset
Description: Supports all ArcGIS Raster Datasets
Help: 
Has Raster Attribute Table:  false
Edit Fields Info:  null
Ownership Based AccessControl For Rasters:  null
Child Resources:
  
Info
  Histograms
  Key Properties
  Legend
  Raster Function Infos
Supported Operations:
  
Export Image
  Identify
  Measure
  Compute Histograms
  Compute Statistics Histograms
  Get Samples
  Compute Class Statistics
  Query Boundary
  Compute Pixel Location
  Validate
  Project